BEGIN:VCALENDAR
VERSION:2.0
PRODID:-//wp-events-plugin.com//7.2.3.1//EN
TZID:Europe/London
X-WR-TIMEZONE:Europe/London
BEGIN:VEVENT
UID:25@sietar.co.uk
DTSTART;TZID=Europe/London:20231213T173000
DTEND;TZID=Europe/London:20231213T190000
DTSTAMP:20241017T113153Z
URL:https://sietar.co.uk/events/building-intercultural-competences-to-faci
 litate-migrants-integration/
SUMMARY:BUILDING INTERCULTURAL COMPETENCES TO FACILITATE MIGRANTS’ INTEGR
 ATION
DESCRIPTION:An online interactive session by Maura di Mauro – Intercultur
 al Trainer\, DEI &amp\; Sustainability Specialist and member of SIETAR Ita
 lia SIETAR UK hosted an event for all Sietarians who are involved in proje
 cts concerning Refugees and Asylum Seekers (RAAS). The session was held jo
 intly with the SIETAR Europa SIG for Migration and SIETAR Switzerland. The
  following questions were posed by the speaker\, Maura di Mauro: How\, as 
 interculturalists\, can we contribute to migrants’ integration\, particu
 larly...\n\nhttps://sietar.co.uk/events/building-intercultural-competences
 -to-facilitate-migrants-integration/
CATEGORIES:SIETAR UK
END:VEVENT
BEGIN:VTIMEZONE
TZID:Europe/London
X-LIC-LOCATION:Europe/London
BEGIN:STANDARD
DTSTART:20231029T010000
TZOFFSETFROM:+0100
TZOFFSETTO:+0000
TZNAME:GMT
END:STANDARD
END:VTIMEZONE
END:VCALENDAR