BEGIN:VCALENDAR
VERSION:2.0
PRODID:-//wp-events-plugin.com//7.2.3.1//EN
TZID:Europe/London
X-WR-TIMEZONE:Europe/London
BEGIN:VEVENT
UID:13@sietar.co.uk
DTSTART:20221212T180000Z
DTEND:20221212T203000Z
DTSTAMP:20241017T113152Z
URL:https://sietar.co.uk/events/christmas-party/
SUMMARY:Christmas Party
DESCRIPTION:Join us at the SIETAR UK Christmas Party 12 December 2022\, 6-8
 .30 pm at London School of English\, 15 Holland Park Gardens\, London W14 
 8DZ. This event has been cancelled owing to the low number of people able 
 to come. We will organise another social event in the spring. Watch this s
 pace. Christmas and New Year greetings to all\n\nhttps://sietar.co.uk/even
 ts/christmas-party/
ATTACH;FMTTYPE=image/jpeg:https://sietar.co.uk/wp-content/uploads/2022/11/
 Christmas-annie-sprat-2.jpg
CATEGORIES:SIETAR UK
LOCATION:London School of English\, 15 Holland Park Gardens\,\, London\, W1
 4 8DZ\, United Kingdom
X-APPLE-STRUCTURED-LOCATION;VALUE=URI;X-ADDRESS=15 Holland Park Gardens\,\,
  London\, W14 8DZ\, United Kingdom;X-APPLE-RADIUS=100;X-TITLE=London Schoo
 l of English:geo:0,0
END:VEVENT
END:VCALENDAR