BEGIN:VCALENDAR
VERSION:2.0
PRODID:-//wp-events-plugin.com//7.2.3.1//EN
TZID:Europe/London
X-WR-TIMEZONE:Europe/London
BEGIN:VEVENT
UID:50@sietar.co.uk
DTSTART;TZID=Europe/London:20260317T110000
DTEND;TZID=Europe/London:20260317T140000
DTSTAMP:20260312T113128Z
URL:https://sietar.co.uk/events/co-working-london-7/
SUMMARY:CO-WORKING LONDON
DESCRIPTION:We at SIETAR UK realise that many interculturalists work remote
 ly and appreciate connecting and exchanging ideas from time to time. Pleas
 e let us know if you have any questions and register your interest via the
  booking form below. 😊 Look forward to seeing you there.\n\nhttps://sie
 tar.co.uk/events/co-working-london-7/
ATTACH;FMTTYPE=image/jpeg:https://sietar.co.uk/wp-content/uploads/2026/01/
 Unknown.jpeg
LOCATION:Design Museum\, 224-238 Kensington High Street\, London\, W8 6AG\,
  United Kingdom
X-APPLE-STRUCTURED-LOCATION;VALUE=URI;X-ADDRESS=224-238 Kensington High Str
 eet\, London\, W8 6AG\, United Kingdom;X-APPLE-RADIUS=100;X-TITLE=Design M
 useum:geo:0,0
END:VEVENT
BEGIN:VTIMEZONE
TZID:Europe/London
X-LIC-LOCATION:Europe/London
BEGIN:STANDARD
DTSTART:20251026T010000
TZOFFSETFROM:+0100
TZOFFSETTO:+0000
TZNAME:GMT
END:STANDARD
END:VTIMEZONE
END:VCALENDAR