BEGIN:VCALENDAR
VERSION:2.0
PRODID:-//wp-events-plugin.com//7.2.3.1//EN
TZID:Europe/London
X-WR-TIMEZONE:Europe/London
BEGIN:VEVENT
UID:54@sietar.co.uk
DTSTART;TZID=Europe/London:20260515T110000
DTEND;TZID=Europe/London:20260515T140000
DTSTAMP:20260420T113519Z
URL:https://sietar.co.uk/events/co-working-london-8/
SUMMARY:Co-working London
DESCRIPTION:We at SIETAR UK realise that many interculturalists work remote
 ly and appreciate connecting and exchanging ideas from time to time. Pleas
 e let us know if you have any questions and register your interest via the
  booking form below. 😊 Look forward to seeing you there. Fun facts abou
 t Foyles: Failed Exams\, Founded Empires: In 1903 the brothers William an
 d Gilbert Foyle started by selling their own textbooks after failing their
  exams\, turning a kitchen table venture...\n\nhttps://sietar.co.uk/events
 /co-working-london-8/
ATTACH;FMTTYPE=image/jpeg:https://sietar.co.uk/wp-content/uploads/2026/04/
 Unknown.jpeg
LOCATION:THE CAFÉ AT FOYLES\, 107 CHARING CROSS RD\, London\, WCH ODT\, Un
 ited Kingdom
X-APPLE-STRUCTURED-LOCATION;VALUE=URI;X-ADDRESS=107 CHARING CROSS RD\, Lond
 on\, WCH ODT\, United Kingdom;X-APPLE-RADIUS=100;X-TITLE=THE CAFÉ AT FOYL
 ES:geo:0,0
END:VEVENT
BEGIN:VTIMEZONE
TZID:Europe/London
X-LIC-LOCATION:Europe/London
BEGIN:DAYLIGHT
DTSTART:20260329T020000
TZOFFSETFROM:+0000
TZOFFSETTO:+0100
TZNAME:BST
END:DAYLIGHT
END:VTIMEZONE
END:VCALENDAR