BEGIN:VCALENDAR
VERSION:2.0
PRODID:-//wp-events-plugin.com//7.2.3.1//EN
TZID:Europe/London
X-WR-TIMEZONE:Europe/London
BEGIN:VEVENT
UID:11@sietar.co.uk
DTSTART:20221110T170000Z
DTEND:20221110T180000Z
DTSTAMP:20241017T113152Z
URL:https://sietar.co.uk/events/implementing-edi-strategy-in-international
 -contexts-challenges-and-opportunities/
SUMMARY:Implementing EDI strategy in international contexts: challenges and
  opportunities?
DESCRIPTION:Over the last two decades\, the terms ‘equality\, diversity a
 nd inclusion’ (EDI) and ‘diversity management’ (DM) have travelled g
 lobally as transnational organisations and institutions have sought to int
 roduce them in a range of settings. However\, what is meant by these terms
  in different national and cultural contexts may vary greatly. The topic w
 ill be addressed by two presenters - Sarah Christensen and Aidan McKearney
 . Their two presentations will consider how EDI and DM are interpreted...\
 n\nhttps://sietar.co.uk/events/implementing-edi-strategy-in-international-
 contexts-challenges-and-opportunities/
CATEGORIES:SIETAR UK
END:VEVENT
END:VCALENDAR