BEGIN:VCALENDAR
VERSION:2.0
PRODID:-//wp-events-plugin.com//7.2.3.1//EN
TZID:Europe/London
X-WR-TIMEZONE:Europe/London
BEGIN:VEVENT
UID:26@sietar.co.uk
DTSTART;TZID=Europe/London;VALUE=DATE:20240604
DTEND;TZID=Europe/London;VALUE=DATE:20240609
DTSTAMP:20241119T222647Z
URL:https://sietar.co.uk/events/sietar-europa-congress-2024/
SUMMARY:SIETAR Europa Congress 2024
DESCRIPTION:We are pleased to say that the registration for the SIETAR Euro
 pa congress in Lille is now open. See lille24.seucongress.org. All curren
 t members of SIETAR UK\, and members of other National SIETARS in Europe\,
  as well as Direct members of SIETAR Europa\, are eligible for the members
 ’ discount. Instructions on how to obtain the members’ discount code a
 re given during the registration process and are also explained by Steve M
 iller\, head of IT at SIETAR Europa\,...\n\nhttps://sietar.co.uk/events/si
 etar-europa-congress-2024/
CATEGORIES:SIETAR Europa
END:VEVENT
BEGIN:VTIMEZONE
TZID:Europe/London
X-LIC-LOCATION:Europe/London
BEGIN:DAYLIGHT
DTSTART:20240331T020000
TZOFFSETFROM:+0000
TZOFFSETTO:+0100
TZNAME:BST
END:DAYLIGHT
END:VTIMEZONE
END:VCALENDAR