BEGIN:VCALENDAR
VERSION:2.0
PRODID:-//wp-events-plugin.com//7.2.3.1//EN
TZID:Europe/London
X-WR-TIMEZONE:Europe/London
BEGIN:VEVENT
UID:29@sietar.co.uk
DTSTART;TZID=Europe/London:20241014T173000
DTEND;TZID=Europe/London:20241014T183000
DTSTAMP:20241017T113241Z
URL:https://sietar.co.uk/events/sig-migration-event-refining-the-classic-i
 ntercultural-reflection-tool-e-g-die-3r-for-work-with-migrants-refugees-an
 d-their-volunteers-the-trips-toolkit/
SUMMARY:SIG Migration Event: Refining the classic intercultural reflection 
 tool (e.g. DIE\, 3R) for work with Migrants\, Refugees and their Volunteer
 s: The TRIPS Toolkit
DESCRIPTION:Come along to learn how the famous DIE or 3R or similar popul
 ar reflective training tools for intercultural competence can be refined a
 nd improved\, ensuring better learning\, rapport and understanding. Specif
 ically\, Emeritus Professor of Intercultural Communication Helen Spencer-O
 atey will tell us in an online session all about her new TRIPS Toolkit tha
 t can help keen SIETARians in their work with refugees\, migrants\, and th
 eir volunteers. Then we will open the floor for reflections and discussion
 s among attendees...\n\nhttps://sietar.co.uk/events/sig-migration-event-re
 fining-the-classic-intercultural-reflection-tool-e-g-die-3r-for-work-with-
 migrants-refugees-and-their-volunteers-the-trips-toolkit/
CATEGORIES:SIETAR UK
END:VEVENT
BEGIN:VTIMEZONE
TZID:Europe/London
X-LIC-LOCATION:Europe/London
BEGIN:DAYLIGHT
DTSTART:20240331T020000
TZOFFSETFROM:+0000
TZOFFSETTO:+0100
TZNAME:BST
END:DAYLIGHT
END:VTIMEZONE
END:VCALENDAR