BEGIN:VCALENDAR
VERSION:2.0
PRODID:-//wp-events-plugin.com//7.2.3.1//EN
TZID:Europe/London
X-WR-TIMEZONE:Europe/London
BEGIN:VEVENT
UID:55@sietar.co.uk
DTSTART;TZID=Europe/London:20260709T173000
DTEND;TZID=Europe/London:20260709T213000
DTSTAMP:20260420T114628Z
URL:https://sietar.co.uk/events/summer-drinks/
SUMMARY:Summer Drinks
DESCRIPTION:Join us for our summer party! Registration will open soon.\n\nh
 ttps://sietar.co.uk/events/summer-drinks/
ATTACH;FMTTYPE=image/jpeg:https://sietar.co.uk/wp-content/uploads/2026/04/
 Unknown-summer-drinks.jpeg
LOCATION:TRUCKLES OF PIED BULL YARD\, OFF BURY PLACE BLOOMSBURY\, London\, 
 WC1A 2J\, United Kingdom
X-APPLE-STRUCTURED-LOCATION;VALUE=URI;X-ADDRESS=OFF BURY PLACE BLOOMSBURY\,
  London\, WC1A 2J\, United Kingdom;X-APPLE-RADIUS=100;X-TITLE=TRUCKLES OF 
 PIED BULL YARD:geo:0,0
END:VEVENT
BEGIN:VTIMEZONE
TZID:Europe/London
X-LIC-LOCATION:Europe/London
BEGIN:DAYLIGHT
DTSTART:20260329T020000
TZOFFSETFROM:+0000
TZOFFSETTO:+0100
TZNAME:BST
END:DAYLIGHT
END:VTIMEZONE
END:VCALENDAR